BEGIN:VCALENDAR
VERSION:2.0
PRODID:-//eventon.com NONSGML v1.0//EN
BEGIN:VEVENT
UID:69ebbefea4688
DTSTAMP:20260425T050534
DTSTART:20220727T140000Z
DTEND:20220728T135900Z
TZID:Australia/Sydney
LOCATION:
SUMMARY:Make Super Guarantee Contributions for 4Qrt**
DESCRIPTION: **Employers who do not pay the minimum contribution for 4Qrt by this date must pay the super guarantee charge and lodge a Super guarantee charge statement by this date\nhttps://www.pacificaccounting.com.au/events/make-super-guarantee-contributions-for-4qrt/
URL:https://www.pacificaccounting.com.au/events/make-super-guarantee-contributions-for-4qrt/
END:VEVENT
END:VCALENDAR